BEGIN:VCALENDAR
VERSION:2.0
PRODID:-//The Icon Museum and Study Center - ECPv6.15.20//NONSGML v1.0//EN
CALSCALE:GREGORIAN
METHOD:PUBLISH
X-WR-CALNAME:The Icon Museum and Study Center
X-ORIGINAL-URL:https://www.iconmuseum.org
X-WR-CALDESC:Events for The Icon Museum and Study Center
REFRESH-INTERVAL;VALUE=DURATION:PT1H
X-Robots-Tag:noindex
X-PUBLISHED-TTL:PT1H
BEGIN:VTIMEZONE
TZID:America/New_York
BEGIN:DAYLIGHT
TZOFFSETFROM:-0500
TZOFFSETTO:-0400
TZNAME:EDT
DTSTART:20210314T070000
END:DAYLIGHT
BEGIN:STANDARD
TZOFFSETFROM:-0400
TZOFFSETTO:-0500
TZNAME:EST
DTSTART:20211107T060000
END:STANDARD
BEGIN:DAYLIGHT
TZOFFSETFROM:-0500
TZOFFSETTO:-0400
TZNAME:EDT
DTSTART:20220313T070000
END:DAYLIGHT
BEGIN:STANDARD
TZOFFSETFROM:-0400
TZOFFSETTO:-0500
TZNAME:EST
DTSTART:20221106T060000
END:STANDARD
BEGIN:DAYLIGHT
TZOFFSETFROM:-0500
TZOFFSETTO:-0400
TZNAME:EDT
DTSTART:20230312T070000
END:DAYLIGHT
BEGIN:STANDARD
TZOFFSETFROM:-0400
TZOFFSETTO:-0500
TZNAME:EST
DTSTART:20231105T060000
END:STANDARD
END:VTIMEZONE
BEGIN:VEVENT
DTSTART;TZID=America/New_York:20220611T090000
DTEND;TZID=America/New_York:20220611T170000
DTSTAMP:20260422T073843
CREATED:20220504T132938Z
LAST-MODIFIED:20260106T202941Z
UID:23609-1654938000-1654966800@www.iconmuseum.org
SUMMARY:Virtual Conference: Center for Icon Studies
DESCRIPTION:Center for Icon Studies’ Third International Conference: The Visual Culture of Iconoclasm and Atheism\nFriday\, June 10\, 1:00-5:00pm\nSaturday\, June 11\, 9:00am – 5:00pm \nOrganized and sponsored by the Icon Museum and Study Center in Clinton\, MA (USA)\, this virtual conference is presented in conjunction with the exhibition Images of Atheism: The Soviet Assault on Religion\, curated by conference chair\, Dr. Wendy Salmond. Please join us on Friday\, June 10\, from 1 to 5 pm\, and Saturday\, June 11\, from 9 am to 5 pm\, to explore topics such as ‘godless corners\,’ rituals in the Soviet Union\, state-sponsored propaganda\, and sacred images in hiding. Click here for more details and a conference schedule. \n\nMuseum Members: $55\nNot-yet-Members: $75\nStudents: $30*\n\n*For discounted student registrations\, please contact Lise Graham email: lgraham(at)iconmuseum.org or call (978) 598-5000 ext. 110
URL:https://www.iconmuseum.org/event/virtual-conference-2-2022-06-11/
LOCATION:Virtual\, 203 Union St\, Clinton\, MA\, 01510\, United States
END:VEVENT
END:VCALENDAR