BEGIN:VCALENDAR
VERSION:2.0
PRODID:-//The Icon Museum and Study Center - ECPv6.15.20//NONSGML v1.0//EN
CALSCALE:GREGORIAN
METHOD:PUBLISH
X-WR-CALNAME:The Icon Museum and Study Center
X-ORIGINAL-URL:https://www.iconmuseum.org
X-WR-CALDESC:Events for The Icon Museum and Study Center
REFRESH-INTERVAL;VALUE=DURATION:PT1H
X-Robots-Tag:noindex
X-PUBLISHED-TTL:PT1H
BEGIN:VTIMEZONE
TZID:America/New_York
BEGIN:DAYLIGHT
TZOFFSETFROM:-0500
TZOFFSETTO:-0400
TZNAME:EDT
DTSTART:20240310T070000
END:DAYLIGHT
BEGIN:STANDARD
TZOFFSETFROM:-0400
TZOFFSETTO:-0500
TZNAME:EST
DTSTART:20241103T060000
END:STANDARD
BEGIN:DAYLIGHT
TZOFFSETFROM:-0500
TZOFFSETTO:-0400
TZNAME:EDT
DTSTART:20250309T070000
END:DAYLIGHT
BEGIN:STANDARD
TZOFFSETFROM:-0400
TZOFFSETTO:-0500
TZNAME:EST
DTSTART:20251102T060000
END:STANDARD
BEGIN:DAYLIGHT
TZOFFSETFROM:-0500
TZOFFSETTO:-0400
TZNAME:EDT
DTSTART:20260308T070000
END:DAYLIGHT
BEGIN:STANDARD
TZOFFSETFROM:-0400
TZOFFSETTO:-0500
TZNAME:EST
DTSTART:20261101T060000
END:STANDARD
END:VTIMEZONE
BEGIN:VEVENT
DTSTART;TZID=America/New_York:20251025T170000
DTEND;TZID=America/New_York:20251025T180000
DTSTAMP:20260420T054252
CREATED:20250918T150925Z
LAST-MODIFIED:20250925T183027Z
UID:30328-1761411600-1761415200@www.iconmuseum.org
SUMMARY:Tour with the Curator
DESCRIPTION:Join curator Elliot Mackin for a special Halloween themed tour. Explore the galleries together and encounter surprising images of sin and sanctity in Orthodox icons. \nFree with Admission. This program provides an opportunity to explore the Museum’s galleries after regular opening hours.
URL:https://www.iconmuseum.org/event/tour-with-the-curator-2/
LOCATION:The Icon Museum and Study Center\, 203 Union St\, Clinton\, MA\, 01510\, United States
ATTACH;FMTTYPE=image/png:https://www.iconmuseum.org/wp-content/uploads/2025/09/Saints-and-Demons-Tour-1500-x-1000-px.png
END:VEVENT
END:VCALENDAR