BEGIN:VCALENDAR
VERSION:2.0
PRODID:-//The Icon Museum and Study Center - ECPv6.15.20//NONSGML v1.0//EN
CALSCALE:GREGORIAN
METHOD:PUBLISH
X-WR-CALNAME:The Icon Museum and Study Center
X-ORIGINAL-URL:https://www.iconmuseum.org
X-WR-CALDESC:Events for The Icon Museum and Study Center
REFRESH-INTERVAL;VALUE=DURATION:PT1H
X-Robots-Tag:noindex
X-PUBLISHED-TTL:PT1H
BEGIN:VTIMEZONE
TZID:America/New_York
BEGIN:DAYLIGHT
TZOFFSETFROM:-0500
TZOFFSETTO:-0400
TZNAME:EDT
DTSTART:20240310T070000
END:DAYLIGHT
BEGIN:STANDARD
TZOFFSETFROM:-0400
TZOFFSETTO:-0500
TZNAME:EST
DTSTART:20241103T060000
END:STANDARD
BEGIN:DAYLIGHT
TZOFFSETFROM:-0500
TZOFFSETTO:-0400
TZNAME:EDT
DTSTART:20250309T070000
END:DAYLIGHT
BEGIN:STANDARD
TZOFFSETFROM:-0400
TZOFFSETTO:-0500
TZNAME:EST
DTSTART:20251102T060000
END:STANDARD
BEGIN:DAYLIGHT
TZOFFSETFROM:-0500
TZOFFSETTO:-0400
TZNAME:EDT
DTSTART:20260308T070000
END:DAYLIGHT
BEGIN:STANDARD
TZOFFSETFROM:-0400
TZOFFSETTO:-0500
TZNAME:EST
DTSTART:20261101T060000
END:STANDARD
END:VTIMEZONE
BEGIN:VEVENT
DTSTART;TZID=America/New_York:20251016T170000
DTEND;TZID=America/New_York:20251016T190000
DTSTAMP:20260424T071652
CREATED:20250507T142819Z
LAST-MODIFIED:20251009T150337Z
UID:29996-1760634000-1760641200@www.iconmuseum.org
SUMMARY:Friends Opening Reception: Greek Icon Gallery
DESCRIPTION:Friends of the Icon Museum Exclusive Event\n\n\n\n\nThe Greek Icon Gallery\, a permanent exhibition\, explores Greek icon painting after the pivotal fall of Constantinople in 1453. This opening reception is an exclusive Friends of the Icon Museum event. Click here if you’d like to learn more about becoming our Friend!\n\n\n \n\n \n\n\nLocated on the Museum’s second floor\, the gallery features icons that have not been publicly displayed in decades\, offering a once-in-a-lifetime glimpse into this historical period. Visitors to the gallery will discover a compelling story of cultural endurance and flourishing in the face of exile. As Greek icon painters fled the Ottoman Empire after 1453\, they carried their traditions with them\, establishing new workshops in places like Venice and Crete. This period gave rise to a fascinating blend of old and new: Greek icon painters adopted the innovative techniques of the Renaissance to serve the deeply rooted traditions of their Orthodox faith.\n\n\n \n\n \n\n \n\n\nThe gallery highlights this remarkable artistic exchange\, showcasing styles that span a vast geographical area from Byzantium to Venice to Crete. The gallery’s collection is a collaboration with prestigious institutions and private collectors.\n\n\n \n\n \n\n \n\n\nIf you are a Friend of the Icon Museum and you did not receive an invite\, please reach out to info@iconmuseum.org.
URL:https://www.iconmuseum.org/event/friends-opening-reception-greek-icon-gallery/
LOCATION:The Icon Museum and Study Center\, 203 Union St\, Clinton\, MA\, 01510\, United States
ATTACH;FMTTYPE=image/jpeg:https://www.iconmuseum.org/wp-content/uploads/2025/05/L2025_01_05-Archangel-Michael-main-straight.jpg
END:VEVENT
END:VCALENDAR