BEGIN:VCALENDAR
VERSION:2.0
PRODID:-//The Icon Museum and Study Center - ECPv6.15.20//NONSGML v1.0//EN
CALSCALE:GREGORIAN
METHOD:PUBLISH
X-WR-CALNAME:The Icon Museum and Study Center
X-ORIGINAL-URL:https://www.iconmuseum.org
X-WR-CALDESC:Events for The Icon Museum and Study Center
REFRESH-INTERVAL;VALUE=DURATION:PT1H
X-Robots-Tag:noindex
X-PUBLISHED-TTL:PT1H
BEGIN:VTIMEZONE
TZID:America/New_York
BEGIN:DAYLIGHT
TZOFFSETFROM:-0500
TZOFFSETTO:-0400
TZNAME:EDT
DTSTART:20250309T070000
END:DAYLIGHT
BEGIN:STANDARD
TZOFFSETFROM:-0400
TZOFFSETTO:-0500
TZNAME:EST
DTSTART:20251102T060000
END:STANDARD
BEGIN:DAYLIGHT
TZOFFSETFROM:-0500
TZOFFSETTO:-0400
TZNAME:EDT
DTSTART:20260308T070000
END:DAYLIGHT
BEGIN:STANDARD
TZOFFSETFROM:-0400
TZOFFSETTO:-0500
TZNAME:EST
DTSTART:20261101T060000
END:STANDARD
BEGIN:DAYLIGHT
TZOFFSETFROM:-0500
TZOFFSETTO:-0400
TZNAME:EDT
DTSTART:20270314T070000
END:DAYLIGHT
BEGIN:STANDARD
TZOFFSETFROM:-0400
TZOFFSETTO:-0500
TZNAME:EST
DTSTART:20271107T060000
END:STANDARD
END:VTIMEZONE
BEGIN:VEVENT
DTSTART;TZID=America/New_York:20260301T100000
DTEND;TZID=America/New_York:20260301T160000
DTSTAMP:20260421T055339
CREATED:20260120T162419Z
LAST-MODIFIED:20260120T162419Z
UID:30872-1772359200-1772380800@www.iconmuseum.org
SUMMARY:Free First Sunday: History of a Collection
DESCRIPTION:Enjoy free admission all day\, courtesy of the Nypro Foundation. \nThis year\, 2026\, marks the 20th anniversary since the Icon Museum first opened its doors. The museum was born out of the passion of our Founder\, Gordon Lankton\, who wanted to share his collection with the world. Families and visitors of all ages can take a self-guided tour\, learn about some of the historic additions to our collection\, and create their own works of art at our craft maker-space. \n \n 
URL:https://www.iconmuseum.org/event/free-first-sunday-history-of-a-collection/
LOCATION:The Icon Museum and Study Center\, 203 Union St\, Clinton\, MA\, 01510\, United States
ATTACH;FMTTYPE=image/jpeg:https://www.iconmuseum.org/wp-content/uploads/2023/07/CopyrightAndyRyan_4384_n-jpg.webp
END:VEVENT
END:VCALENDAR