BEGIN:VCALENDAR
VERSION:2.0
PRODID:-//The Icon Museum and Study Center - ECPv6.15.20//NONSGML v1.0//EN
CALSCALE:GREGORIAN
METHOD:PUBLISH
X-WR-CALNAME:The Icon Museum and Study Center
X-ORIGINAL-URL:https://www.iconmuseum.org
X-WR-CALDESC:Events for The Icon Museum and Study Center
REFRESH-INTERVAL;VALUE=DURATION:PT1H
X-Robots-Tag:noindex
X-PUBLISHED-TTL:PT1H
BEGIN:VTIMEZONE
TZID:America/New_York
BEGIN:DAYLIGHT
TZOFFSETFROM:-0500
TZOFFSETTO:-0400
TZNAME:EDT
DTSTART:20230312T070000
END:DAYLIGHT
BEGIN:STANDARD
TZOFFSETFROM:-0400
TZOFFSETTO:-0500
TZNAME:EST
DTSTART:20231105T060000
END:STANDARD
BEGIN:DAYLIGHT
TZOFFSETFROM:-0500
TZOFFSETTO:-0400
TZNAME:EDT
DTSTART:20240310T070000
END:DAYLIGHT
BEGIN:STANDARD
TZOFFSETFROM:-0400
TZOFFSETTO:-0500
TZNAME:EST
DTSTART:20241103T060000
END:STANDARD
BEGIN:DAYLIGHT
TZOFFSETFROM:-0500
TZOFFSETTO:-0400
TZNAME:EDT
DTSTART:20250309T070000
END:DAYLIGHT
BEGIN:STANDARD
TZOFFSETFROM:-0400
TZOFFSETTO:-0500
TZNAME:EST
DTSTART:20251102T060000
END:STANDARD
END:VTIMEZONE
BEGIN:VEVENT
DTSTART;TZID=America/New_York:20241201T100000
DTEND;TZID=America/New_York:20241201T160000
DTSTAMP:20260423T082713
CREATED:20241121T175713Z
LAST-MODIFIED:20241121T175715Z
UID:29382-1733047200-1733068800@www.iconmuseum.org
SUMMARY:Free First Sunday
DESCRIPTION:Enjoy free admission on the first Sunday of each month\, courtesy of the Nypro Foundation. \n  \nJoin us in celebrating the spirit of the holidays by helping to decorate our Community Tree! Get creative and customize your very own ornament from an assortment of craft supplies. We can’t wait to see the beautiful wooden bulbs you’ll design to hang on our tree.
URL:https://www.iconmuseum.org/event/free-first-sunday-4/
LOCATION:The Icon Museum and Study Center\, 203 Union St\, Clinton\, MA\, 01510\, United States
ATTACH;FMTTYPE=image/jpeg:https://www.iconmuseum.org/wp-content/uploads/2023/10/CopyrightAndyRyan_4040_b-jpg-e1710957633456.webp
END:VEVENT
END:VCALENDAR