BEGIN:VCALENDAR
VERSION:2.0
PRODID:-//The Icon Museum and Study Center - ECPv6.15.20//NONSGML v1.0//EN
CALSCALE:GREGORIAN
METHOD:PUBLISH
X-WR-CALNAME:The Icon Museum and Study Center
X-ORIGINAL-URL:https://www.iconmuseum.org
X-WR-CALDESC:Events for The Icon Museum and Study Center
REFRESH-INTERVAL;VALUE=DURATION:PT1H
X-Robots-Tag:noindex
X-PUBLISHED-TTL:PT1H
BEGIN:VTIMEZONE
TZID:America/New_York
BEGIN:DAYLIGHT
TZOFFSETFROM:-0500
TZOFFSETTO:-0400
TZNAME:EDT
DTSTART:20240310T070000
END:DAYLIGHT
BEGIN:STANDARD
TZOFFSETFROM:-0400
TZOFFSETTO:-0500
TZNAME:EST
DTSTART:20241103T060000
END:STANDARD
BEGIN:DAYLIGHT
TZOFFSETFROM:-0500
TZOFFSETTO:-0400
TZNAME:EDT
DTSTART:20250309T070000
END:DAYLIGHT
BEGIN:STANDARD
TZOFFSETFROM:-0400
TZOFFSETTO:-0500
TZNAME:EST
DTSTART:20251102T060000
END:STANDARD
BEGIN:DAYLIGHT
TZOFFSETFROM:-0500
TZOFFSETTO:-0400
TZNAME:EDT
DTSTART:20260308T070000
END:DAYLIGHT
BEGIN:STANDARD
TZOFFSETFROM:-0400
TZOFFSETTO:-0500
TZNAME:EST
DTSTART:20261101T060000
END:STANDARD
END:VTIMEZONE
BEGIN:VEVENT
DTSTART;TZID=America/New_York:20250703T100000
DTEND;TZID=America/New_York:20250703T160000
DTSTAMP:20260421T084103
CREATED:20250626T154902Z
LAST-MODIFIED:20260105T192626Z
UID:30140-1751536800-1751558400@www.iconmuseum.org
SUMMARY:Free Family Thursdays
DESCRIPTION:During the month of July\, enjoy free admission every Thursday. Family-friendly drop-in activities will also be available throughout the day. Come explore the galleries and cool down with us! \nWriting in Color \nExplore the symbolism of colors used in icons and the importance of getting the tone and color exactly right. Experiment with creating colors and tones using a paint similar to what is used by iconographers\, using gum arabic and pigments; participants will be encouraged to make different tones and create a monochromatic painting that conveys an emotion.
URL:https://www.iconmuseum.org/event/free-family-thursdays/
LOCATION:The Icon Museum and Study Center\, 203 Union St\, Clinton\, MA\, 01510\, United States
ATTACH;FMTTYPE=image/jpeg:https://www.iconmuseum.org/wp-content/uploads/2025/06/CopyrightAndyRyan-1450643-scaled.jpg
END:VEVENT
END:VCALENDAR