BEGIN:VCALENDAR
VERSION:2.0
PRODID:-//The Icon Museum and Study Center - ECPv6.15.20//NONSGML v1.0//EN
CALSCALE:GREGORIAN
METHOD:PUBLISH
X-WR-CALNAME:The Icon Museum and Study Center
X-ORIGINAL-URL:https://www.iconmuseum.org
X-WR-CALDESC:Events for The Icon Museum and Study Center
REFRESH-INTERVAL;VALUE=DURATION:PT1H
X-Robots-Tag:noindex
X-PUBLISHED-TTL:PT1H
BEGIN:VTIMEZONE
TZID:America/New_York
BEGIN:DAYLIGHT
TZOFFSETFROM:-0500
TZOFFSETTO:-0400
TZNAME:EDT
DTSTART:20250309T070000
END:DAYLIGHT
BEGIN:STANDARD
TZOFFSETFROM:-0400
TZOFFSETTO:-0500
TZNAME:EST
DTSTART:20251102T060000
END:STANDARD
BEGIN:DAYLIGHT
TZOFFSETFROM:-0500
TZOFFSETTO:-0400
TZNAME:EDT
DTSTART:20260308T070000
END:DAYLIGHT
BEGIN:STANDARD
TZOFFSETFROM:-0400
TZOFFSETTO:-0500
TZNAME:EST
DTSTART:20261101T060000
END:STANDARD
BEGIN:DAYLIGHT
TZOFFSETFROM:-0500
TZOFFSETTO:-0400
TZNAME:EDT
DTSTART:20270314T070000
END:DAYLIGHT
BEGIN:STANDARD
TZOFFSETFROM:-0400
TZOFFSETTO:-0500
TZNAME:EST
DTSTART:20271107T060000
END:STANDARD
END:VTIMEZONE
BEGIN:VEVENT
DTSTART;TZID=America/New_York:20260130T180000
DTEND;TZID=America/New_York:20260130T200000
DTSTAMP:20260419T224151
CREATED:20251217T213102Z
LAST-MODIFIED:20251217T213423Z
UID:30724-1769796000-1769803200@www.iconmuseum.org
SUMMARY:Film Screening: "Sacred Alaska"
DESCRIPTION:Film Duration: 88 minutes$15 for members\, $20 for not-yet-members \nJoin us for a screening of “Sacred Alaska”\, an award-winning documentary that offers an intimate look into Native Alaskan culture and spirituality. \nThis documentary explores the significant impact of Orthodoxy\, introduced by Russian monks in the late 18th century\, on Alaskan society. It also spotlights how Alaskans have blended their indigenous beliefs with Orthodox traditions\, profoundly shaping their worldview. Through stunning cinematography and compelling storytelling\, “Sacred Alaska” emphasizes the deep\, sacred connection between the Alaskan people\, their faith\, and the majestic landscape they call home. \n  \n\n\n\nRegister\n\n\n\nWatch the trailer:
URL:https://www.iconmuseum.org/event/film-screening-sacred-alaska/
LOCATION:The Icon Museum and Study Center\, 203 Union St\, Clinton\, MA\, 01510\, United States
ATTACH;FMTTYPE=image/jpeg:https://www.iconmuseum.org/wp-content/uploads/2025/12/2C57uiyA.jpg
END:VEVENT
END:VCALENDAR