BEGIN:VCALENDAR
VERSION:2.0
PRODID:-//The Icon Museum and Study Center - ECPv6.15.20//NONSGML v1.0//EN
CALSCALE:GREGORIAN
METHOD:PUBLISH
X-WR-CALNAME:The Icon Museum and Study Center
X-ORIGINAL-URL:https://www.iconmuseum.org
X-WR-CALDESC:Events for The Icon Museum and Study Center
REFRESH-INTERVAL;VALUE=DURATION:PT1H
X-Robots-Tag:noindex
X-PUBLISHED-TTL:PT1H
BEGIN:VTIMEZONE
TZID:America/New_York
BEGIN:DAYLIGHT
TZOFFSETFROM:-0500
TZOFFSETTO:-0400
TZNAME:EDT
DTSTART:20240310T070000
END:DAYLIGHT
BEGIN:STANDARD
TZOFFSETFROM:-0400
TZOFFSETTO:-0500
TZNAME:EST
DTSTART:20241103T060000
END:STANDARD
BEGIN:DAYLIGHT
TZOFFSETFROM:-0500
TZOFFSETTO:-0400
TZNAME:EDT
DTSTART:20250309T070000
END:DAYLIGHT
BEGIN:STANDARD
TZOFFSETFROM:-0400
TZOFFSETTO:-0500
TZNAME:EST
DTSTART:20251102T060000
END:STANDARD
BEGIN:DAYLIGHT
TZOFFSETFROM:-0500
TZOFFSETTO:-0400
TZNAME:EDT
DTSTART:20260308T070000
END:DAYLIGHT
BEGIN:STANDARD
TZOFFSETFROM:-0400
TZOFFSETTO:-0500
TZNAME:EST
DTSTART:20261101T060000
END:STANDARD
END:VTIMEZONE
BEGIN:VEVENT
DTSTART;TZID=America/New_York:20250719T130000
DTEND;TZID=America/New_York:20250719T140000
DTSTAMP:20260420T072855
CREATED:20250625T161620Z
LAST-MODIFIED:20260106T202947Z
UID:30138-1752930000-1752933600@www.iconmuseum.org
SUMMARY:Drop-in Gallery Tours
DESCRIPTION:Join a free\, guided tour of the Museum’s collection led by knowledgeable volunteer guides. Explore at your own pace and gain unique insights. Tours are available on a first-come\, first-served basis.
URL:https://www.iconmuseum.org/event/drop-in-gallery-tours/
LOCATION:The Icon Museum and Study Center\, 203 Union St\, Clinton\, MA\, 01510\, United States
ATTACH;FMTTYPE=image/jpeg:https://www.iconmuseum.org/wp-content/uploads/2025/06/CopyrightAndyRyan-1450333.jpg
END:VEVENT
END:VCALENDAR