BEGIN:VCALENDAR
VERSION:2.0
PRODID:-//The Icon Museum and Study Center - ECPv6.15.20//NONSGML v1.0//EN
CALSCALE:GREGORIAN
METHOD:PUBLISH
X-WR-CALNAME:The Icon Museum and Study Center
X-ORIGINAL-URL:https://www.iconmuseum.org
X-WR-CALDESC:Events for The Icon Museum and Study Center
REFRESH-INTERVAL;VALUE=DURATION:PT1H
X-Robots-Tag:noindex
X-PUBLISHED-TTL:PT1H
BEGIN:VTIMEZONE
TZID:America/New_York
BEGIN:DAYLIGHT
TZOFFSETFROM:-0500
TZOFFSETTO:-0400
TZNAME:EDT
DTSTART:20250309T070000
END:DAYLIGHT
BEGIN:STANDARD
TZOFFSETFROM:-0400
TZOFFSETTO:-0500
TZNAME:EST
DTSTART:20251102T060000
END:STANDARD
BEGIN:DAYLIGHT
TZOFFSETFROM:-0500
TZOFFSETTO:-0400
TZNAME:EDT
DTSTART:20260308T070000
END:DAYLIGHT
BEGIN:STANDARD
TZOFFSETFROM:-0400
TZOFFSETTO:-0500
TZNAME:EST
DTSTART:20261101T060000
END:STANDARD
BEGIN:DAYLIGHT
TZOFFSETFROM:-0500
TZOFFSETTO:-0400
TZNAME:EDT
DTSTART:20270314T070000
END:DAYLIGHT
BEGIN:STANDARD
TZOFFSETFROM:-0400
TZOFFSETTO:-0500
TZNAME:EST
DTSTART:20271107T060000
END:STANDARD
END:VTIMEZONE
BEGIN:VEVENT
DTSTART;TZID=America/New_York:20260419T100000
DTEND;TZID=America/New_York:20260419T160000
DTSTAMP:20260419T095941
CREATED:20260323T175258Z
LAST-MODIFIED:20260417T153731Z
UID:31245-1776592800-1776614400@www.iconmuseum.org
SUMMARY:Picturing Paradise: Earth Day at the Icon Museum
DESCRIPTION:Free admission all day\, courtesy of the Nypro Foundation. \nJoin us for a fun and free celebration of Icons and the Natural World for Earth Day at the Icon Museum. Enjoy a guided tour\, explore natural materials utilized in icon making\, create a card out of recycled materials\, and plant a beneficial sunflower to take home. \n10:30\, 12:30\, 2:30 Guided Tours \nThe beauty and variety of the natural world can be found throughout our galleries. Take in the vibrant colors and rich textures of the icons while learning about the natural materials used to create them during guided tours led by the Museum’s curator and registrar. Explore how the splendor of nature is celebrated in the iconography and learn how fantastic beasts convey complex spiritual messages.  \n10:00-4:00 Drop-in Activity: Materials of Icon Painting \nExplore the natural materials used to make icons! Most of the icons in our collection were painted with egg tempera. Artists would grind rocks and minerals into colorful pigments using a mortar and pestle; these would be mixed with egg yolk to create vibrant\, long-lasting colors. Get a sense of how it would feel to use these materials while learning about the symbolic meanings behind different colors\, grind with a mortar and pestle\, create your own paints\, and use imitation gold and silver leaf to adorn your paintings.   \n11:00-3:00 Drop-in Activity: Earth Day Cards and the Green Museum \nEncounter how artists used scenes of nature and natural patterns to enliven their sacred paintings. Take inspiration from the natural motifs in our icons to create Earth Day greeting cards using recycled materials at a creation station located in our galleries. While you create\, learn how museum founder Gordon Lankton envisioned a museum built and operated on the principles of environmental conservation. This short talk will include information about our solar panels\, efficient lighting\, and the daily practices we take to ensure that Gordon’s vision of a green museum holds true today.    \n10:00-4:00 Drop-in Activity: Planting Peace\nSunflowers have been revered by various cultures for centuries as symbols of happiness\, resilience\, and hope. Today\, these magnificent plants are favored by conservationists for their beneficial effects on the environment. Learn about these incredible flowers and how to care for them as you plant your own to take home.  
URL:https://www.iconmuseum.org/event/picturing-paradise/
LOCATION:MA
ATTACH;FMTTYPE=image/jpeg:https://www.iconmuseum.org/wp-content/uploads/2026/03/Earth-Day-at-the-Icon-Museum.jpg
END:VEVENT
END:VCALENDAR